BEGIN:VCALENDAR
VERSION:2.0
PRODID:-//OneGov//onegov.event//
BEGIN:VEVENT
SUMMARY:ü60 Treff
DTSTART:20241205T130000Z
DTEND:20241205T160000Z
DTSTAMP:20240819T134504Z
UID:ue60-treff-2024-12-05@onegov.event
CATEGORIES:Meetup,Elderly
DESCRIPTION:*Gemütliches Beisammensein*\nDer offene Treff lädt zum Austa
 uschen\, Spiele spielen\, Philosophieren\, Stricken... ein. Es gibt Kaffee
 \, weitere Getränke und ein Zvieri.\n\n*Gemeinschaftlich organisiert*\nDu
  bist herzlich willkommen\, es braucht keine An- oder Abmeldung. Der Treff
  wird gemeinschaftlich organisiert: Wenn du möchtest und kannst\, bringe 
 dich nach deinen Möglichkeiten ein. Dafür gibt es vor Ort Listen zum Ein
 tragen.\n
LAST-MODIFIED:20240819T134504Z
LOCATION:Gemeinschaftsraum Phönix\, Lindenhof
URL:https://gesellschaft.ebikon.ch/event/ue60-treff-2024-12-05
END:VEVENT
END:VCALENDAR
