BEGIN:VCALENDAR
VERSION:2.0
PRODID:-//OneGov//onegov.event//
BEGIN:VEVENT
SUMMARY:Racletteabend im Ü60-Treff
DTSTART:20260205T163000Z
DTEND:20260205T190000Z
DTSTAMP:20251216T142107Z
UID:racletteabend-im-u60-treff-2026-02-05@onegov.event
CATEGORIES:Elderly,Gastronomy
DESCRIPTION:Ein gemütlicher Abend mit feinem Raclette: alle bringen etwas
  fürs Raclette mit und zusammen haben wir einen feinen Znacht!\n\nOhne An
 meldung und kostenlos.
LAST-MODIFIED:20251216T142107Z
LOCATION:Phönix\, Lindenhof 3\, 6030 Ebikon
URL:https://gesellschaft.ebikon.ch/event/racletteabend-im-u60-treff-2026-0
 2-05
END:VEVENT
END:VCALENDAR
